BEGIN:VCALENDAR
VERSION:2.0
PRODID:-//WSATI - ECPv6.15.20//NONSGML v1.0//EN
CALSCALE:GREGORIAN
METHOD:PUBLISH
X-WR-CALNAME:WSATI
X-ORIGINAL-URL:https://wsati.org
X-WR-CALDESC:Events for WSATI
REFRESH-INTERVAL;VALUE=DURATION:PT1H
X-Robots-Tag:noindex
X-PUBLISHED-TTL:PT1H
BEGIN:VTIMEZONE
TZID:America/Los_Angeles
BEGIN:DAYLIGHT
TZOFFSETFROM:-0800
TZOFFSETTO:-0700
TZNAME:PDT
DTSTART:20240310T100000
END:DAYLIGHT
BEGIN:STANDARD
TZOFFSETFROM:-0700
TZOFFSETTO:-0800
TZNAME:PST
DTSTART:20241103T090000
END:STANDARD
BEGIN:DAYLIGHT
TZOFFSETFROM:-0800
TZOFFSETTO:-0700
TZNAME:PDT
DTSTART:20250309T100000
END:DAYLIGHT
BEGIN:STANDARD
TZOFFSETFROM:-0700
TZOFFSETTO:-0800
TZNAME:PST
DTSTART:20251102T090000
END:STANDARD
BEGIN:DAYLIGHT
TZOFFSETFROM:-0800
TZOFFSETTO:-0700
TZNAME:PDT
DTSTART:20260308T100000
END:DAYLIGHT
BEGIN:STANDARD
TZOFFSETFROM:-0700
TZOFFSETTO:-0800
TZNAME:PST
DTSTART:20261101T090000
END:STANDARD
END:VTIMEZONE
BEGIN:VEVENT
DTSTART;TZID=America/Los_Angeles:20250320T100000
DTEND;TZID=America/Los_Angeles:20250320T120000
DTSTAMP:20260422T052437
CREATED:20250218T190049Z
LAST-MODIFIED:20250219T165412Z
UID:10000027-1742464800-1742472000@wsati.org
SUMMARY:WSATI Training Meeting - Thursday\, March 20\, 2025- Connected Vehicle Investigations
DESCRIPTION:RSVP \nTOPIC: Connected Vehicle Investigations \nLOCATION: VFW El Monte Post 10218\, 11126 Ramona Blvd\, El Monte\, CA 91731 \nTUITION: $30.00 (Includes Lunch) \nRSVP: On the WSATI website at WSATI.org \nPlease join us for the next training session of 2025 which will be held in El Monte at the VFW Hall at 11126 Ramona Blvd. \nThe training will be on Connected Vehicle Investigations and how to employ vehicle forensics into your investigations. \nA round table introduction will be conducted after the training and lunch.  Networking is highly encouraged\, so bring plenty of business cards to pass out. \nNetworking with members of the vehicle industry is highly encouraged\, so bring plenty of business cards to pass out. For more information\, go to our website: WSATI.org.
URL:https://wsati.org/event/wsati-training-meeting-thursday-march-20-2025/
LOCATION:VFW El Monte\, 11126 Ramona Blvd\, El Monte\, 91731\, United States
CATEGORIES:Training Meeting
ATTACH;FMTTYPE=image/jpeg:https://wsati.org/wp-content/uploads/2025/02/Connected-Car.jpg
END:VEVENT
END:VCALENDAR